BEGIN:VCALENDAR
VERSION:2.0
PRODID:-//wp-events-plugin.com//7.2.3.1//EN
TZID:Europe/London
X-WR-TIMEZONE:Europe/London
BEGIN:VEVENT
UID:567@maryscardiff.uk
DTSTART;TZID=Europe/London:20260420T203000
DTEND;TZID=Europe/London:20260420T210000
DTSTAMP:20260404T131808Z
URL:https://maryscardiff.uk/events/play-your-cards-right-monday-night-with
 -joanna-bumme-2026-04-20/
SUMMARY:Play Your Cards Right - Monday Night with Joanna Bumme
DESCRIPTION:Fancy starring in our own take on the classic TV gameshow? Joan
 na Bumme hosts the legendary game\, where you can win some lovely giveaway
 s! Starting at 830pm (before Miss Kitty's Ditty)!
ATTACH;FMTTYPE=image/jpeg:https://maryscardiff.uk/wp-content/uploads/2026/
 02/Play-Your-Cards-Right-Website.jpg
LOCATION:Mary's Cardiff\, 89 St. Mary Street\, Cardiff\, CF10 1DW\, United 
 Kingdom
X-APPLE-STRUCTURED-LOCATION;VALUE=URI;X-ADDRESS=89 St. Mary Street\, Cardif
 f\, CF10 1DW\, United Kingdom;X-APPLE-RADIUS=100;X-TITLE=Mary's Cardiff:ge
 o:0,0
END:VEVENT
BEGIN:VTIMEZONE
TZID:Europe/London
X-LIC-LOCATION:Europe/London
BEGIN:DAYLIGHT
DTSTART:20260329T020000
TZOFFSETFROM:+0000
TZOFFSETTO:+0100
TZNAME:BST
END:DAYLIGHT
END:VTIMEZONE
END:VCALENDAR